Workbook

Sheet 記入例①
A2: 第 回栃木県スポーツ少年団空手道交流大会 出場明細 記入例
I6: 申し込み日
B8: 郡市連 | H8: 市町番号 | J8: 県番号 | K8: 09
B9: 単位団名 | H9: 単位団番号
B10: 道場長名
B12: 引率責任者 | G12: 指導者
C13: 氏名 | H13: 氏名
C14: フリガナ | H14: フリガナ
C15: 郵便番号 | H15: 郵便番号
C16: 住所 | H16: 住所
C17: ℡ | H17: ℡
C18: メールアドレス | H18: メールアドレス
C19: 資格番号 | H19: 資格番号
B20: ※ | C20: 引率責任者と指導者は別の人で入力してください。
C21: 引率責任者にゼッケンなどの資料をお送りいたします。
A23: 審判員 | D23: 審判員 | G23: 審判員 | J23: 審判員
A24: 氏名 | D24: 氏名 | G24: 氏名 | J24: 氏名
A25: フリガナ | D25: フリガナ | G25: フリガナ | J25: フリガナ
A26: 形資格 | D26: 形資格 | G26: 形資格 | J26: 形資格
A27: 組手資格 | D27: 組手資格 | G27: 組手資格 | J27: 組手資格
A28: 流派 | D28: 流派 | G28: 流派 | J28: 流派
A30: 小学男子形出場選手 | D30: 小学男子組手出場選手 | G30: 小学女子形出場選手 | J30: 小学女子組手出場選手
B31: 名 | E31: 名 | H31: 名 | K31: 名
A33: 中学男子形出場選手 | D33: 中学男子組手出場選手 | G33: 中学女子形出場選手 | J33: 中学女子組手出場選手
B34: 名 | E34: 名 | H34: 名 | K34: 名
H36: 合計出場選手 | J36: =A31+D31+G31+J31+A34+D34+G34+J34 -> 0 | K36: 名
A37: 上記チームを適格と認め推薦します。
D39: 令和 | F39: 年 | H39: 月 | J39: 日
I40: スポーツ少年団
D43: 本 部 長 | J43: 印

Sheet 記入例②
A1: 第22回栃木県スポーツ少年団空手道交流大会参加申込書 記入例
A3: 引率責任者 | C3: 郵便番号 | D3: 住 所 | F3: ℡ | G3: アドレス | J3: 資格番号
A4: =出場明細!D13 -> 0 | C4: =出場明細!D15 -> 0 | D4: =出場明細!D16 -> 0 | F4: =出場明細!D17 -> 0 | G4: =出場明細!D18 -> 0 | J4: =出場明細!D19 -> 0
A6: 単位団 登録番号 | E6: =出場明細!C9 -> 0 | G6: =出場明細!C10 -> 0
A7: =出場明細!K8 -> 09 | B7: =出場明細!G8 -> 0 | C7: =出場明細!G9 -> 0
A9: N/O | B9: 郡市連名 | C9: 単位団名 | D9: 選手名 | E9: フリガナ | F9: 学年 | G9: 年齢 | H9: 性別 | I9: 種目 | J9: 学校名 | O9: 学年 | P9: 性別 | Q9: 種目
A10: 1 | B10: 宇都宮 | C10: 栃木県空手道 | D10: 栃木 陽花 | E10: トチギハルカ | F10: 小学６年生 | G10: 12 | H10: 女子 | I10: 形 | J10: 西川田小学校
A11: 2 | B11: 宇都宮 | C11: 栃木県空手道 | D11: 宇都宮拳太 | E11: ウツノミヤケンタ | F11: 小学６年生 | G11: 12 | H11: 男子 | I11: 形 | J11: 西川田小学校
A12: 3 | B12: 宇都宮 | C12: 栃木県空手道 | D12: 南風 舞 | E12: ミナミカゼマイ | F12: 小学６年生 | G12: 12 | H12: 女子 | I12: 組手 | J12: 西川田中央小学校 | O12: 小学３年生 | P12: 男子 | Q12: 形
A13: 4 | B13: 宇都宮 | C13: 栃木県空手道 | D13: 早速 蹴人 | E13: ハヤミシュウト | F13: 小学５年生 | G13: 11 | H13: 男子 | I13: 形 | J13: 西川田東小学校 | O13: 小学４年生 | P13: 女子 | Q13: 組手
A14: 5 | B14: 宇都宮 | C14: 栃木県空手道 | D14: 春山 桜 | E14: ハルヤマサクラ | F14: 小学５年生 | G14: 11 | H14: 女子 | I14: 組手 | J14: 西川田東小学校 | O14: 小学５年生 | P14: 男子団体 | Q14: 形
A15: 6 | B15: 宇都宮 | C15: 栃木県空手道 | D15: 桜田 元気 | E15: サクラダゲンキ | F15: 中学２年生 | G15: 14 | H15: 男子 | I15: 組手 | J15: 西川田中学校 | O15: 小学６年生 | P15: 女子団体 | Q15: 組手
A16: 7 | O16: 中学１年生
A17: 8 | O17: 中学２年生
A18: 9 | O18: 中学３年生
A19: 10
A20: 11
A21: 12
A22: 13
A23: 14
A24: 15
A25: 16
A26: 17
A27: 18
A28: 19
A29: 20
A30: 21
... A39: 30
A41: １ページ
A42: 第44回栃木県空手道少年錬成大会（小学生）
A44: 引率責任者 | C44: 郵便番号 | D44: 住 所 | F44: ℡ | G44: アドレス | J44: 資格番号
A45: =出場明細!D13 -> 0 | C45: =出場明細!D15 -> 0 | D45: =出場明細!D16 -> 0 | F45: =出場明細!D17 -> 0 | G45: =出場明細!D18 -> 0 | J45: =出場明細!D19 -> 0
E47: =出場明細!C9 -> 0 | G47: =出場明細!C10 -> 0
A50: N/O | B50: 郡市連名 | C50: 団体名 | D50: 選手名 | E50: フリガナ | F50: 学年 | G50: 年齢 | H50: 性別 | I50: 種目 | J50: 学校名 | O50: 学年 | P50: 性別 | Q50: 種目
A51: 31
A52: 32
A53: 33 | O53: 小学３年生 | P53: 男子 | Q53: 形
A54: 34 | O54: 小学４年生 | P54: 女子 | Q54: 組手
A55: 35 | O55: 小学５年生 | P55: 男子団体 | Q55: 形
A56: 36 | O56: 小学６年生 | P56: 女子団体 | Q56: 組手
A57: 37 | O57: 中学１年生
A58: 38 | O58: 中学２年生
A59: 39 | O59: 中学３年生
A60: 40
A61: 41
A62: 42
A63: 43
A64: 44
A65: 45
A66: 46
A67: 47
A68: 48
A69: 49
A70: 50
A71: 51
... A80: 60
A82: ２ページ
A83: 第44回栃木県空手道少年錬成大会（小学生）
A85: 引率責任者 | C85: 郵便番号 | D85: 住 所 | F85: ℡ | G85: アドレス | J85: 資格番号
A86: =出場明細!D13 -> 0 | C86: =出場明細!D15 -> 0 | D86: =出場明細!D16 -> 0 | F86: =出場明細!D17 -> 0 | G86: =出場明細!D18 -> 0 | J86: =出場明細!D19 -> 0
E88: =出場明細!C9 -> 0 | G88: =出場明細!C10 -> 0
A91: N/O | B91: 郡市連名 | C91: 団体名 | D91: 選手名 | E91: フリガナ | F91: 学年 | G91: 年齢 | H91: 性別 | I91: 種目 | J91: 学校名 | O91: 学年 | P91: 性別 | Q91: 種目
A92: 61
A93: 62
A94: 63 | O94: 小学３年生 | P94: 男子 | Q94: 形
A95: 64 | O95: 小学４年生 | P95: 女子 | Q95: 組手
A96: 65 | O96: 小学５年生 | P96: 男子団体 | Q96: 形
A97: 66 | O97: 小学６年生 | P97: 女子団体 | Q97: 組手
A98: 67 | O98: 中学１年生
A99: 68 | O99: 中学２年生
A100: 69 | O100: 中学３年生
A101: 70
A102: 71
A103: 72
A104: 73
A105: 74
A106: 75
A107: 76
A108: 77
A109: 78
A110: 79
A111: 80
A112: 81
... A121: 90
A123: 3ページ

Sheet 出場明細
A2: 第22回栃木県スポーツ少年団空手道交流大会 出場明細
I6: 申し込み日
B8: 郡市連 | H8: 市町番号 | J8: 県番号 | K8: 09
B9: 単位団名 | H9: 単位団番号
B10: 道場長名
B12: 引率責任者 | G12: 指導者
C13: 氏名 | H13: 氏名
C14: フリガナ | H14: フリガナ
C15: 郵便番号 | H15: 郵便番号
C16: 住所 | H16: 住所
C17: ℡ | H17: ℡
C18: メールアドレス | H18: メールアドレス
C19: 資格番号 | H19: 資格番号
B20: ※ | C20: 引率責任者と指導者は別の人で入力してください。
C21: 引率責任者にゼッケンなどの資料をお送りいたします。
A23: 審判員 | D23: 審判員 | G23: 審判員 | J23: 審判員 | M23: 審判資格 | O23: 流派
A24: 氏名 | D24: 氏名 | G24: 氏名 | J24: 氏名 | N24: 全国 | P24: 松濤館
A25: フリガナ | D25: フリガナ | G25: フリガナ | J25: フリガナ | N25: 地区 | P25: 糸東
A26: 形資格 | D26: 形資格 | G26: 形資格 | J26: 形資格 | N26: 県 | P26: 剛柔
A27: 組手資格 | D27: 組手資格 | G27: 組手資格 | J27: 組手資格 | N27: 無 | P27: 和道
A28: 流派 | D28: 流派 | G28: 流派 | J28: 流派
A30: 小学男子形出場選手 | D30: 小学男子組手出場選手 | G30: 小学女子形出場選手 | J30: 小学女子組手出場選手
B31: 名 | E31: 名 | H31: 名 | K31: 名
A33: 中学男子形出場選手 | D33: 中学男子組手出場選手 | G33: 中学女子形出場選手 | J33: 中学女子組手出場選手
B34: 名 | E34: 名 | H34: 名 | K34: 名
H36: 合計出場選手 | J36: =A31+D31+G31+J31+A34+D34+G34+J34 -> 0 | K36: 名
A37: 上記チームを適格と認め推薦します。
D39: 令和 | F39: 年 | H39: 月 | J39: 日
I40: スポーツ少年団
D43: 本 部 長 | J43: 印

Sheet 選手申込書
A1: 第22回栃木県スポーツ少年団空手道交流大会参加申込書
A3: 引率責任者 | C3: 郵便番号 | D3: 住 所 | F3: ℡ | G3: アドレス | J3: 資格番号
A4: =出場明細!D13 -> 0 | C4: =出場明細!D15 -> 0 | D4: =出場明細!D16 -> 0 | F4: =出場明細!D17 -> 0 | G4: =出場明細!D18 -> 0 | J4: =出場明細!D19 -> 0
A6: 単位団 登録番号 | E6: =出場明細!C9 -> 0 | G6: =出場明細!C10 -> 0
A7: =出場明細!K8 -> 09 | B7: =出場明細!G8 -> 0 | C7: =出場明細!G9 -> 0
A9: N/O | B9: 郡市連名 | C9: 単位団名 | D9: 選手名 | E9: フリガナ | F9: 学年 | G9: 年齢 | H9: 性別 | I9: 種目 | J9: 学校名 | O9: 学年 | P9: 性別 | Q9: 種目
A10: 1
A11: 2
A12: 3 | O12: 小学３年生 | P12: 男子 | Q12: 形
A13: 4 | O13: 小学４年生 | P13: 女子 | Q13: 組手
A14: 5 | O14: 小学５年生 | P14: 男子団体 | Q14: 形
A15: 6 | O15: 小学６年生 | P15: 女子団体 | Q15: 組手
A16: 7 | O16: 中学１年生
A17: 8 | O17: 中学２年生
A18: 9 | O18: 中学３年生
A19: 10
A20: 11
A21: 12
A22: 13
A23: 14
A24: 15
A25: 16
A26: 17
A27: 18
A28: 19
A29: 20
A30: 21
... A39: 30
A41: １ページ
A42: 第44回栃木県空手道少年錬成大会（小学生）
A44: 引率責任者 | C44: 郵便番号 | D44: 住 所 | F44: ℡ | G44: アドレス | J44: 資格番号
A45: =出場明細!D13 -> 0 | C45: =出場明細!D15 -> 0 | D45: =出場明細!D16 -> 0 | F45: =出場明細!D17 -> 0 | G45: =出場明細!D18 -> 0 | J45: =出場明細!D19 -> 0
E47: =出場明細!C9 -> 0 | G47: =出場明細!C10 -> 0
A50: N/O | B50: 郡市連名 | C50: 団体名 | D50: 選手名 | E50: フリガナ | F50: 学年 | G50: 年齢 | H50: 性別 | I50: 種目 | J50: 学校名 | O50: 学年 | P50: 性別 | Q50: 種目
A51: 31
A52: 32
A53: 33 | O53: 小学３年生 | P53: 男子 | Q53: 形
A54: 34 | O54: 小学４年生 | P54: 女子 | Q54: 組手
A55: 35 | O55: 小学５年生 | P55: 男子団体 | Q55: 形
A56: 36 | O56: 小学６年生 | P56: 女子団体 | Q56: 組手
A57: 37 | O57: 中学１年生
A58: 38 | O58: 中学２年生
A59: 39 | O59: 中学３年生
A60: 40
A61: 41
A62: 42
A63: 43
A64: 44
A65: 45
A66: 46
A67: 47
A68: 48
A69: 49
A70: 50
A71: 51
... A80: 60
A82: ２ページ
A83: 第44回栃木県空手道少年錬成大会（小学生）
A85: 引率責任者 | C85: 郵便番号 | D85: 住 所 | F85: ℡ | G85: アドレス | J85: 資格番号
A86: =出場明細!D13 -> 0 | C86: =出場明細!D15 -> 0 | D86: =出場明細!D16 -> 0 | F86: =出場明細!D17 -> 0 | G86: =出場明細!D18 -> 0 | J86: =出場明細!D19 -> 0
E88: =出場明細!C9 -> 0 | G88: =出場明細!C10 -> 0
A91: N/O | B91: 郡市連名 | C91: 団体名 | D91: 選手名 | E91: フリガナ | F91: 学年 | G91: 年齢 | H91: 性別 | I91: 種目 | J91: 学校名 | O91: 学年 | P91: 性別 | Q91: 種目
A92: 61
A93: 62
A94: 63 | O94: 小学３年生 | P94: 男子 | Q94: 形
A95: 64 | O95: 小学４年生 | P95: 女子 | Q95: 組手
A96: 65 | O96: 小学５年生 | P96: 男子団体 | Q96: 形
A97: 66 | O97: 小学６年生 | P97: 女子団体 | Q97: 組手
A98: 67 | O98: 中学１年生
A99: 68 | O99: 中学２年生
A100: 69 | O100: 中学３年生
A101: 70
A102: 71
A103: 72
A104: 73
A105: 74
A106: 75
A107: 76
A108: 77
A109: 78
A110: 79
A111: 80
A112: 81
... A121: 90
A123: 3ページ

Sheet 変更届
A1: 第22回栃木県スポーツ少年団空手道交流大会 参加団員等変更届
C3: チーム名
C4: 単位団登録番号 | I4: 09－ －
C5: 指導者
A7: 1 | B7: 指導者変更
B8: (1) | C8: 申込者
B9: No. | C9: 氏名(ふりがな)
B10: 1
B12: 2
B14: (2) | C14: 交代(変更)者
B15: No. | C15: 氏名(ふりがな) | K15: 年齢 | M15: 住所(電話番号) | AC15: 資格番号
B16: 1 | M16: 〒 | P16: － | T16: ℡ | W16: － | Z16: －
B18: 2 | M18: 〒 | P18: － | T18: ℡ | W18: － | Z18: －
B20: (3) | C20: 交代(変更)理由
A23: 2 | B23: 団員変更
H24: 申込者 | P24: 交代(変更)者
B25: 種目 | E25: 性別 | H25: 氏名(ふりがな) | P25: 氏名(ふりがな) | W25: 年齢 | Y25: 上段：学校名 下段：単位団名
B26: 形・手 | E26: 男・女 | O26: → | Y26: ( 年)
B30: 種目 | E30: 性別 | H30: 氏名(ふりがな) | P30: 氏名(ふりがな) | W30: 年齢 | Y30: 上段：学校名 下段：単位団名
B31: 形・手 | E31: 男・女 | O31: → | Y31: ( 年)
B34: 種目 | E34: 性別 | H34: 氏名(ふりがな) | P34: 氏名(ふりがな) | W34: 年齢 | Y34: 上段：学校名 下段：単位団名
B35: 形・手 | E35: 男・女 | O35: → | Y35: ( 年)
B38: 種目 | E38: 性別 | H38: 氏名(ふりがな) | P38: 氏名(ふりがな) | W38: 年齢 | Y38: 上段：学校名 下段：単位団名
B39: 形・手 | E39: 男・女 | O39: → | Y39: ( 年)
B42: (2) | C42: 交代(変更)理由
